BEGIN:VCALENDAR
VERSION:2.0
PRODID:-//Imkerverein Bad Tölz e.V. - ECPv6.15.20//NONSGML v1.0//EN
CALSCALE:GREGORIAN
METHOD:PUBLISH
X-ORIGINAL-URL:http://www.imkerverein-toelz.de
X-WR-CALDESC:Veranstaltungen für Imkerverein Bad Tölz e.V.
REFRESH-INTERVAL;VALUE=DURATION:PT1H
X-Robots-Tag:noindex
X-PUBLISHED-TTL:PT1H
BEGIN:VTIMEZONE
TZID:Europe/Berlin
BEGIN:DAYLIGHT
TZOFFSETFROM:+0100
TZOFFSETTO:+0200
TZNAME:CEST
DTSTART:20250330T010000
END:DAYLIGHT
BEGIN:STANDARD
TZOFFSETFROM:+0200
TZOFFSETTO:+0100
TZNAME:CET
DTSTART:20251026T010000
END:STANDARD
BEGIN:DAYLIGHT
TZOFFSETFROM:+0100
TZOFFSETTO:+0200
TZNAME:CEST
DTSTART:20260329T010000
END:DAYLIGHT
BEGIN:STANDARD
TZOFFSETFROM:+0200
TZOFFSETTO:+0100
TZNAME:CET
DTSTART:20261025T010000
END:STANDARD
BEGIN:DAYLIGHT
TZOFFSETFROM:+0100
TZOFFSETTO:+0200
TZNAME:CEST
DTSTART:20270328T010000
END:DAYLIGHT
BEGIN:STANDARD
TZOFFSETFROM:+0200
TZOFFSETTO:+0100
TZNAME:CET
DTSTART:20271031T010000
END:STANDARD
END:VTIMEZONE
BEGIN:VEVENT
DTSTART;TZID=Europe/Berlin:20260311T183000
DTEND;TZID=Europe/Berlin:20260311T203000
DTSTAMP:20260420T205519
CREATED:20260228T165145Z
LAST-MODIFIED:20260228T165756Z
UID:565-1773253800-1773261000@www.imkerverein-toelz.de
SUMMARY:Informationsveranstaltung Anfängerkurs
DESCRIPTION:Informationsveranstaltung für unseren  Jahresbegleitenden Anfängerkurs. \nAn dem obligatorischen ersten Termin werden wir zusammen Organisatorisches\, Ablauf \, Kursgebühren\, Unterlagen durchgehen sowie auf folgende Themen eingehen. \n\nZeitaufwand Bienenhaltung\nKosten Bienenhaltung\nBeschaffung\nAufstellung / Standort\nRechtliches\n\nDieser Termin ist kostenlos\, die Kursgebühren fallen erst mit den Folgeterminen nach verbindlicher Anmeldung des Teilnehmers an.
URL:http://www.imkerverein-toelz.de/event/informationsveranstaltung-anfaengerkurs-2/
LOCATION:Lehrbienenstand
CATEGORIES:Anfängerkurs
ATTACH;FMTTYPE=image/png:http://www.imkerverein-toelz.de/wp-content/uploads/2021/02/vortrag-e1612697583402.png
END:VEVENT
END:VCALENDAR