BEGIN:VCALENDAR
VERSION:2.0
PRODID:-//Imkerverein Bad Tölz e.V. - ECPv6.15.20//NONSGML v1.0//EN
CALSCALE:GREGORIAN
METHOD:PUBLISH
X-ORIGINAL-URL:http://www.imkerverein-toelz.de
X-WR-CALDESC:Veranstaltungen für Imkerverein Bad Tölz e.V.
REFRESH-INTERVAL;VALUE=DURATION:PT1H
X-Robots-Tag:noindex
X-PUBLISHED-TTL:PT1H
BEGIN:VTIMEZONE
TZID:Europe/Berlin
BEGIN:DAYLIGHT
TZOFFSETFROM:+0100
TZOFFSETTO:+0200
TZNAME:CEST
DTSTART:20230326T010000
END:DAYLIGHT
BEGIN:STANDARD
TZOFFSETFROM:+0200
TZOFFSETTO:+0100
TZNAME:CET
DTSTART:20231029T010000
END:STANDARD
BEGIN:DAYLIGHT
TZOFFSETFROM:+0100
TZOFFSETTO:+0200
TZNAME:CEST
DTSTART:20240331T010000
END:DAYLIGHT
BEGIN:STANDARD
TZOFFSETFROM:+0200
TZOFFSETTO:+0100
TZNAME:CET
DTSTART:20241027T010000
END:STANDARD
BEGIN:DAYLIGHT
TZOFFSETFROM:+0100
TZOFFSETTO:+0200
TZNAME:CEST
DTSTART:20250330T010000
END:DAYLIGHT
BEGIN:STANDARD
TZOFFSETFROM:+0200
TZOFFSETTO:+0100
TZNAME:CET
DTSTART:20251026T010000
END:STANDARD
BEGIN:DAYLIGHT
TZOFFSETFROM:+0100
TZOFFSETTO:+0200
TZNAME:CEST
DTSTART:20260329T010000
END:DAYLIGHT
BEGIN:STANDARD
TZOFFSETFROM:+0200
TZOFFSETTO:+0100
TZNAME:CET
DTSTART:20261025T010000
END:STANDARD
BEGIN:DAYLIGHT
TZOFFSETFROM:+0100
TZOFFSETTO:+0200
TZNAME:CEST
DTSTART:20270328T010000
END:DAYLIGHT
BEGIN:STANDARD
TZOFFSETFROM:+0200
TZOFFSETTO:+0100
TZNAME:CET
DTSTART:20271031T010000
END:STANDARD
END:VTIMEZONE
BEGIN:VEVENT
DTSTART;TZID=Europe/Berlin:20260418T100000
DTEND;TZID=Europe/Berlin:20260419T170000
DTSTAMP:20260420T172705
CREATED:20260222T075246Z
LAST-MODIFIED:20260222T075246Z
UID:562-1776506400-1776618000@www.imkerverein-toelz.de
SUMMARY:Gewerbeschau Arzbach
DESCRIPTION:Der Imkerverein wird mit einem Stand an der Gewerbeschau in Arzbach vertreten sein.
URL:http://www.imkerverein-toelz.de/event/gewerbeschau-arzbach/
ATTACH;FMTTYPE=image/jpeg:http://www.imkerverein-toelz.de/wp-content/uploads/2017/04/IMG-20170405-WA0015_1491414767968-e1492357831913.jpg
END:VEVENT
BEGIN:VEVENT
DTSTART;TZID=Europe/Berlin:20260321T100000
DTEND;TZID=Europe/Berlin:20260321T170000
DTSTAMP:20260420T172705
CREATED:20260222T075019Z
LAST-MODIFIED:20260228T164745Z
UID:558-1774087200-1774112400@www.imkerverein-toelz.de
SUMMARY:Frühjahrsarbeitseinsatz [Platzhalter]
DESCRIPTION:Arbeitseinsatz am Lehrbienenstand. \nDer konkrete Termin wird anhand der Wetterlage kurzfristig festgesetzt und über den Verteiler bekannt gegeben.
URL:http://www.imkerverein-toelz.de/event/fruehjahrsarbeitseinsatz-platzhalter/
ATTACH;FMTTYPE=image/png:http://www.imkerverein-toelz.de/wp-content/uploads/2017/03/097000-yellow-road-sign-icon-signs-warning-man-working-sc44.png
END:VEVENT
BEGIN:VEVENT
DTSTART;TZID=Europe/Berlin:20260315T100000
DTEND;TZID=Europe/Berlin:20260315T120000
DTSTAMP:20260420T172705
CREATED:20260222T074738Z
LAST-MODIFIED:20260222T074738Z
UID:556-1773568800-1773576000@www.imkerverein-toelz.de
SUMMARY:Jahreshauptversammlung 2026
DESCRIPTION:HV des Vereins\, Einladung der Mitglieder erfolgt gem. Beschluss per Mailverteiler\,\nwer keine Mails aus dem Verteiler erhält möge sich bitte an die Vorstandschaft wenden. \n\nAnnahme Varroamittelbestellung
URL:http://www.imkerverein-toelz.de/event/jahreshauptversammlung-2026/
LOCATION:Binderbräu Bad Tölz\, Ludwigstraße 12\, Bad Tölz\, 83646
ATTACH;FMTTYPE=image/png:http://www.imkerverein-toelz.de/wp-content/uploads/2021/02/vortrag-e1612697583402.png
END:VEVENT
BEGIN:VEVENT
DTSTART;TZID=Europe/Berlin:20260311T183000
DTEND;TZID=Europe/Berlin:20260311T203000
DTSTAMP:20260420T172705
CREATED:20260228T165145Z
LAST-MODIFIED:20260228T165756Z
UID:565-1773253800-1773261000@www.imkerverein-toelz.de
SUMMARY:Informationsveranstaltung Anfängerkurs
DESCRIPTION:Informationsveranstaltung für unseren  Jahresbegleitenden Anfängerkurs. \nAn dem obligatorischen ersten Termin werden wir zusammen Organisatorisches\, Ablauf \, Kursgebühren\, Unterlagen durchgehen sowie auf folgende Themen eingehen. \n\nZeitaufwand Bienenhaltung\nKosten Bienenhaltung\nBeschaffung\nAufstellung / Standort\nRechtliches\n\nDieser Termin ist kostenlos\, die Kursgebühren fallen erst mit den Folgeterminen nach verbindlicher Anmeldung des Teilnehmers an.
URL:http://www.imkerverein-toelz.de/event/informationsveranstaltung-anfaengerkurs-2/
LOCATION:Lehrbienenstand
CATEGORIES:Anfängerkurs
ATTACH;FMTTYPE=image/png:http://www.imkerverein-toelz.de/wp-content/uploads/2021/02/vortrag-e1612697583402.png
END:VEVENT
BEGIN:VEVENT
DTSTART;TZID=Europe/Berlin:20260301T140000
DTEND;TZID=Europe/Berlin:20260301T170000
DTSTAMP:20260420T172705
CREATED:20260222T074437Z
LAST-MODIFIED:20260222T074437Z
UID:554-1772373600-1772384400@www.imkerverein-toelz.de
SUMMARY:Kreisversammlung 2026
DESCRIPTION:Kreisversammlung 2026\nReferent: Edi Obika\nThema: Marketing in der Imkerei
URL:http://www.imkerverein-toelz.de/event/kreisversammlung-2026/
LOCATION:Binderbräu Bad Tölz\, Ludwigstraße 12\, Bad Tölz\, 83646
ATTACH;FMTTYPE=image/png:http://www.imkerverein-toelz.de/wp-content/uploads/2021/02/vortrag-e1612697583402.png
END:VEVENT
BEGIN:VEVENT
DTSTART;TZID=Europe/Berlin:20251018T100000
DTEND;TZID=Europe/Berlin:20251018T120000
DTSTAMP:20260420T172705
CREATED:20250109T065250Z
LAST-MODIFIED:20250109T065250Z
UID:539-1760781600-1760788800@www.imkerverein-toelz.de
SUMMARY:Herbstarbeitseinsatz [Platzhalter]
DESCRIPTION:Herbstarbeiten am Lehrbienenstand\,\nfür das Leibliche wohl wird gesorgt. \nDer genaue Termin wird rechtzeitig bekannt gegeben.
URL:http://www.imkerverein-toelz.de/event/herbstarbeitseinsatz-platzhalter/
LOCATION:Lehrbienenstand
ATTACH;FMTTYPE=image/png:http://www.imkerverein-toelz.de/wp-content/uploads/2017/03/097000-yellow-road-sign-icon-signs-warning-man-working-sc44.png
END:VEVENT
BEGIN:VEVENT
DTSTART;TZID=Europe/Berlin:20250724T183000
DTEND;TZID=Europe/Berlin:20250724T220000
DTSTAMP:20260420T172705
CREATED:20250109T064459Z
LAST-MODIFIED:20250710T091838Z
UID:537-1753381800-1753394400@www.imkerverein-toelz.de
SUMMARY:Grillabend
DESCRIPTION:Gemeinsamer Grillabend \n!!! Vorgezogen
URL:http://www.imkerverein-toelz.de/event/grillabend-2/
LOCATION:Lehrbienenstand
CATEGORIES:Stammtisch
ATTACH;FMTTYPE=image/png:http://www.imkerverein-toelz.de/wp-content/uploads/2021/02/fest-e1614537322872.png
END:VEVENT
BEGIN:VEVENT
DTSTART;TZID=Europe/Berlin:20250714T190000
DTEND;TZID=Europe/Berlin:20250714T210000
DTSTAMP:20260420T172705
CREATED:20250109T064332Z
LAST-MODIFIED:20250109T064332Z
UID:535-1752519600-1752526800@www.imkerverein-toelz.de
SUMMARY:Brutkrankheiten erkennen / handeln
DESCRIPTION:Vortrag zum Thema „Erkennen von Brutkrankheiten und das richtige Handeln der Imker“ \nDozent: Dr. Beims Leiter Fachberatung Imkerei Oberbayern
URL:http://www.imkerverein-toelz.de/event/brutkrankheiten-erkennen-handeln/
LOCATION:Lehrbienenstand
CATEGORIES:Vorträge
ATTACH;FMTTYPE=image/png:http://www.imkerverein-toelz.de/wp-content/uploads/2021/02/vortrag-e1612697583402.png
END:VEVENT
BEGIN:VEVENT
DTSTART;TZID=Europe/Berlin:20250706T100000
DTEND;TZID=Europe/Berlin:20250706T170000
DTSTAMP:20260420T172705
CREATED:20250316T060026Z
LAST-MODIFIED:20250316T060026Z
UID:548-1751796000-1751821200@www.imkerverein-toelz.de
SUMMARY:Sommerfest / Varroamittelausgabe
DESCRIPTION:Sommerfest mit Varroamittelausgabe \nfür das leibliche Wohl ist gesorgt. \nAufbau am Samstag 5.Juli um 9:00
URL:http://www.imkerverein-toelz.de/event/sommerfest-varroamittelausgabe-2/
LOCATION:Lehrbienenstand
CATEGORIES:Sommerfest
ATTACH;FMTTYPE=image/png:http://www.imkerverein-toelz.de/wp-content/uploads/2021/02/fest-e1614537322872.png
END:VEVENT
BEGIN:VEVENT
DTSTART;TZID=Europe/Berlin:20250601T100000
DTEND;TZID=Europe/Berlin:20250601T120000
DTSTAMP:20260420T172705
CREATED:20250109T064027Z
LAST-MODIFIED:20250109T064352Z
UID:533-1748772000-1748779200@www.imkerverein-toelz.de
SUMMARY:Besichtigung Naturgarten
DESCRIPTION:Ausflug zum zertifizierten Naturgarten unseres Mitglieds Sepp Mangold. \nWir bitten um Voranmeldung per Mail\, die Adresse wird den Teilnehmern\nrechtzeitig bekannt gegeben.
URL:http://www.imkerverein-toelz.de/event/besichtigung-naturgarten/
CATEGORIES:Ausflug
ATTACH;FMTTYPE=image/png:http://www.imkerverein-toelz.de/wp-content/uploads/2024/02/039853-orange-white-pearl-icon-transport-travel-transportation-car1.png
END:VEVENT
BEGIN:VEVENT
DTSTART;TZID=Europe/Berlin:20250423T190000
DTEND;TZID=Europe/Berlin:20250423T210000
DTSTAMP:20260420T172705
CREATED:20250306T124250Z
LAST-MODIFIED:20250306T124250Z
UID:531-1745434800-1745442000@www.imkerverein-toelz.de
SUMMARY:Varroabehandlung in der Praxis
DESCRIPTION:Vortrag über die Varroabehandlung anhand von Praxisbeispielen. \nDozent Herr Altenburger Fachberatung Imkerei Oberbayern
URL:http://www.imkerverein-toelz.de/event/varroabehandlung-in-der-praxis/
LOCATION:Lehrbienenstand
CATEGORIES:Vorträge
ATTACH;FMTTYPE=image/png:http://www.imkerverein-toelz.de/wp-content/uploads/2021/02/vortrag-e1612697583402.png
END:VEVENT
BEGIN:VEVENT
DTSTART;TZID=Europe/Berlin:20250404T180000
DTEND;TZID=Europe/Berlin:20250404T200000
DTSTAMP:20260420T172705
CREATED:20250109T063450Z
LAST-MODIFIED:20250109T063743Z
UID:529-1743789600-1743796800@www.imkerverein-toelz.de
SUMMARY:Königinnenzucht 2025
DESCRIPTION:Einführungsveranstaltung unserer Zuchtgruppe\, für die diesjährige Königinnenzucht. \nDa die Gruppengröße für den Kurs ist begrenzt\, würden wir uns vorab freuen wenn ihr\ndie Vorstandschaft über eure Teilnhahme kurz informiert. \n 
URL:http://www.imkerverein-toelz.de/event/koeniginnenzucht-2025/
LOCATION:Lehrbienenstand
ATTACH;FMTTYPE=image/jpeg:http://www.imkerverein-toelz.de/wp-content/uploads/2022/04/IMG_2211.jpeg
END:VEVENT
BEGIN:VEVENT
DTSTART;TZID=Europe/Berlin:20250322T080000
DTEND;TZID=Europe/Berlin:20250322T170000
DTSTAMP:20260420T172705
CREATED:20250109T063038Z
LAST-MODIFIED:20250109T063735Z
UID:527-1742630400-1742662800@www.imkerverein-toelz.de
SUMMARY:Frühjarsarbeitseinsatz [Platzhalter]
DESCRIPTION:Arbeitseinsatz am Lehrbienenstand. \nDer konkrete Termin wird anhand der Wetterlage kurzfristig festgesetzt und über den Verteiler bekannt gegeben.
URL:http://www.imkerverein-toelz.de/event/fruehjarsarbeitseinsatz-platzhalter/
LOCATION:Lehrbienenstand
ATTACH;FMTTYPE=image/png:http://www.imkerverein-toelz.de/wp-content/uploads/2017/03/097000-yellow-road-sign-icon-signs-warning-man-working-sc44.png
END:VEVENT
BEGIN:VEVENT
DTSTART;TZID=Europe/Berlin:20250316T100000
DTEND;TZID=Europe/Berlin:20250316T120000
DTSTAMP:20260420T172705
CREATED:20250106T115712Z
LAST-MODIFIED:20250109T063726Z
UID:524-1742119200-1742126400@www.imkerverein-toelz.de
SUMMARY:Jahreshauptversammlung 2025
DESCRIPTION:JHV des Vereins\, Einladung der Mitglieder erfolgt gem. Beschluss per Mailverteiler\,\nwer keine Mails aus dem Verteiler erhält möge sich bitte an die Vorstandschaft wenden. \n\nAnnahme Varroamittelbestellung
URL:http://www.imkerverein-toelz.de/event/jahreshauptversammlung-2025/
LOCATION:Binderbräu Bad Tölz\, Ludwigstraße 12\, Bad Tölz\, 83646
CATEGORIES:Hauptversammlung
ATTACH;FMTTYPE=image/png:http://www.imkerverein-toelz.de/wp-content/uploads/2021/02/vortrag-e1612697583402.png
END:VEVENT
BEGIN:VEVENT
DTSTART;TZID=Europe/Berlin:20250312T180000
DTEND;TZID=Europe/Berlin:20250312T190000
DTSTAMP:20260420T172705
CREATED:20250106T105737Z
LAST-MODIFIED:20250304T084841Z
UID:515-1741802400-1741806000@www.imkerverein-toelz.de
SUMMARY:Informationsveranstaltung Anfängerkurs
DESCRIPTION:Informationsveranstaltung für unseren  Jahresbegleitenden Anfängerkurs. \nAn dem obligatorischen ersten Termin werden wir zusammen Organisatorisches\, Ablauf \, Kursgebühren\, Unterlagen durchgehen sowie auf folgende Themen eingehen. \n\nZeitaufwand Bienenhaltung\nKosten Bienenhaltung\nBeschaffung\nAufstellung / Standort\nRechtliches\n\nDieser Termin ist kostenlos\, die Kursgebühren fallen erst mit den Folgeterminen nach verbindlicher Anmeldung des Teilnehmers an.
URL:http://www.imkerverein-toelz.de/event/informationsveranstaltung-anfaengerkurs/
LOCATION:Lehrbienenstand
CATEGORIES:Anfängerkurs
ATTACH;FMTTYPE=image/png:http://www.imkerverein-toelz.de/wp-content/uploads/2021/02/vortrag-e1612697583402.png
END:VEVENT
BEGIN:VEVENT
DTSTART;TZID=Europe/Berlin:20250309T140000
DTEND;TZID=Europe/Berlin:20250309T170000
DTSTAMP:20260420T172705
CREATED:20250106T110450Z
LAST-MODIFIED:20250114T091921Z
UID:518-1741528800-1741539600@www.imkerverein-toelz.de
SUMMARY:Kreisversammlung 2025
DESCRIPTION:Kreisversammlung 2025\nReferent Christoph Soter\nThema: Varroafreie Völker bis in den September\, durch optimiertes Drohnenschneiden. \nDer Christoph Soter beschäftigt sich seit Jahren mit dem Drohnenschneiden\, wo muss der Drohnenrahmen hängen usw.\nAktuell macht er eine Studie in Hohenheim mit dem Drohnenbrutschneiden.\nNäheres erfahrt ihr im Vortrag
URL:http://www.imkerverein-toelz.de/event/kreisversammlung-2025/
LOCATION:Binderbräu Bad Tölz\, Ludwigstraße 12\, Bad Tölz\, 83646
END:VEVENT
BEGIN:VEVENT
DTSTART;TZID=Europe/Berlin:20250226T190000
DTEND;TZID=Europe/Berlin:20250226T210000
DTSTAMP:20260420T172705
CREATED:20250106T111135Z
LAST-MODIFIED:20250106T111135Z
UID:521-1740596400-1740603600@www.imkerverein-toelz.de
SUMMARY:Vortrag - AFB - Futterkranzprobe
DESCRIPTION:Online – Vortrag über die Amerkankische Faulbrut\,\ninsbesondere mit Anleitung zur Futterkranzprobe. \nDozent : Dr. Andreas Schierling Leiter des TGD Bayern e.V \nDer Einladungslink\, wird rechtzeitig über den Mailverteiler bekannt gegeben\,\nMitglieder die noch keine Rundmails erhalten\, mögen sich bitte an die Vorstandschaft melden\,\ndamit wir ggf. die Mailadressen updaten können.\nAlle weitern Interessenten sind ebenfalls herzlich eingeladen an dem Vortrag teilzunehmen\, bitte\nhierzu ebenfalls per Mail an die Vorstandschaft melden. \nAufgrund des Erfolges bei der letztenb Onlineveranstaltung versuchen wir wieder den Vortrag am Lehrbienenstand zu streamen.
URL:http://www.imkerverein-toelz.de/event/vortrag-afb-futterkranzprobe/
LOCATION:Lehrbienenstand
CATEGORIES:Vorträge
ATTACH;FMTTYPE=image/png:http://www.imkerverein-toelz.de/wp-content/uploads/2021/02/vortrag-e1612697583402.png
END:VEVENT
BEGIN:VEVENT
DTSTART;TZID=Europe/Berlin:20241124T100000
DTEND;TZID=Europe/Berlin:20241124T120000
DTSTAMP:20260420T172705
CREATED:20240227T170916Z
LAST-MODIFIED:20241116T180119Z
UID:441-1732442400-1732449600@www.imkerverein-toelz.de
SUMMARY:Jahresabschluss
DESCRIPTION:Gemütlicher Saisonabschluss am Lehrbienenstand\,\nmit kleiner Brotzeit und Jahresrückblick. \nAus organisatorischen Gründen freuen wir uns auf eine\nkurze Zusage per Mail
URL:http://www.imkerverein-toelz.de/event/jahresabschluss/
LOCATION:Lehrbienenstand
ATTACH;FMTTYPE=image/png:http://www.imkerverein-toelz.de/wp-content/uploads/2021/02/weihnachtsbaum-e1612696632623.png
END:VEVENT
BEGIN:VEVENT
DTSTART;TZID=Europe/Berlin:20241110T190000
DTEND;TZID=Europe/Berlin:20241110T210000
DTSTAMP:20260420T172705
CREATED:20240227T170646Z
LAST-MODIFIED:20241105T073324Z
UID:439-1731265200-1731272400@www.imkerverein-toelz.de
SUMMARY:KV Vortrag Dr. Büchler
DESCRIPTION:Vortrag von Dr. Büchler \nVeranstalter ist der Kreisverband \nDr Ralph Büchler – biotechnische Maßnahmen – auf dem Weg in eine medikamentenfreie Imkerei \nSonntag 10.11.2024 um 19 Uhr – Binderbräu Bad Tölz \n 
URL:http://www.imkerverein-toelz.de/event/kv-vortrag-dr-buechler/
CATEGORIES:Vorträge
ATTACH;FMTTYPE=image/png:http://www.imkerverein-toelz.de/wp-content/uploads/2021/02/vortrag-e1612697583402.png
END:VEVENT
BEGIN:VEVENT
DTSTART;TZID=Europe/Berlin:20240811T170000
DTEND;TZID=Europe/Berlin:20240811T220000
DTSTAMP:20260420T172705
CREATED:20240227T165952Z
LAST-MODIFIED:20240227T165952Z
UID:433-1723395600-1723413600@www.imkerverein-toelz.de
SUMMARY:Grillabend
DESCRIPTION:Gemeinsamer Grillabend  am Lehrbienenstand
URL:http://www.imkerverein-toelz.de/event/grillabend/
LOCATION:Lehrbienenstand
CATEGORIES:Stammtisch
ATTACH;FMTTYPE=image/png:http://www.imkerverein-toelz.de/wp-content/uploads/2021/02/Bier_Icon-e1612610276607.png
END:VEVENT
BEGIN:VEVENT
DTSTART;TZID=Europe/Berlin:20240803T190000
DTEND;TZID=Europe/Berlin:20240803T210000
DTSTAMP:20260420T172705
CREATED:20240725T090531Z
LAST-MODIFIED:20240729T080405Z
UID:496-1722711600-1722718800@www.imkerverein-toelz.de
SUMMARY:Onlinevortrag Amerikanische Faulbrut
DESCRIPTION:Aus aktuellem Anlass kurzfristig ein Online Vortrag\nzur Amerkanischen Faulbrut von Dr. Hannes Beims. \nDer Vortrag findet über Microsoft Teams statt\n(link verwenden oder Besprechungsdaten eingeben) \nMicrosoft Teams Besprechungslink \nBesprechungs-ID: 389 840 574 854 \nKennung: 7vK6aB \n— Der Vortrag wird vorr. (wenn die Technik mitmacht) live am Lehrbienenstand gestreamt —- \nAlle Teilnehmer werden gebeten folgende Erklärung auszufüllen und uns per Mail ans schrift[at]imkerverein-toelz.de zukommen zu lassen. \n  \nonline_fortbildung_persoenliche_erklaerung ausgefüllt
URL:http://www.imkerverein-toelz.de/event/onlinevortrag-amerikanische-faulbrut/
LOCATION:Lehrbienenstand
END:VEVENT
BEGIN:VEVENT
DTSTART;TZID=Europe/Berlin:20240715T190000
DTEND;TZID=Europe/Berlin:20240715T210000
DTSTAMP:20260420T172705
CREATED:20240227T165656Z
LAST-MODIFIED:20240227T165745Z
UID:431-1721070000-1721077200@www.imkerverein-toelz.de
SUMMARY:Vortrag Varroa - Sofortmaßnahmen
DESCRIPTION:Vortrag vom Leiter der Fachberatung Dr. Hannes Beims zum Thema \n  \nVarroa – Behandlung fehlgeschlagen – Sofortmaßnahmen ….
URL:http://www.imkerverein-toelz.de/event/vortrag-varroa-sofortmassnahmen/
LOCATION:Lehrbienenstand
ATTACH;FMTTYPE=image/png:http://www.imkerverein-toelz.de/wp-content/uploads/2021/02/vortrag-e1612697583402.png
END:VEVENT
BEGIN:VEVENT
DTSTART;TZID=Europe/Berlin:20240707T100000
DTEND;TZID=Europe/Berlin:20240707T170000
DTSTAMP:20260420T172705
CREATED:20240227T165308Z
LAST-MODIFIED:20240227T165308Z
UID:429-1720346400-1720371600@www.imkerverein-toelz.de
SUMMARY:Sommerfest / Tag der Offenen  Tür
DESCRIPTION:Sommerfest mit Tag der offenen Tür statt. \n\n\n\n\nDie Bevölkerung\, Imker und Gäste sind dazu herzlich eingeladen. Für das leibliche Wohl ist gesorgt. \nDas Team des Lehrbienenstandes freut sich auf Ihr Kommen.\nAusgabe der Bestellten Varroabehandlungsmitteln \nFreiwillige Helfer treffen sich am Samstag um 9:00 zum Aufbau
URL:http://www.imkerverein-toelz.de/event/sommerfest-tag-der-offenen-tuer-2/
LOCATION:Lehrbienenstand
CATEGORIES:Sommerfest
ATTACH;FMTTYPE=image/png:http://www.imkerverein-toelz.de/wp-content/uploads/2021/02/fest-e1614537322872.png
END:VEVENT
BEGIN:VEVENT
DTSTART;TZID=Europe/Berlin:20240609T100000
DTEND;TZID=Europe/Berlin:20240609T130000
DTSTAMP:20260420T172705
CREATED:20240227T165051Z
LAST-MODIFIED:20240528T124133Z
UID:426-1717927200-1717938000@www.imkerverein-toelz.de
SUMMARY:Frühschoppen mit Brotzeit
DESCRIPTION:Gemütlicher Frühschoppen mit Brotzeit am Lehrbienenstand \n  \n!!! Verschoben wg. Fronleichnam
URL:http://www.imkerverein-toelz.de/event/fruehschoppen-mit-brotzeit/
LOCATION:Lehrbienenstand
CATEGORIES:Stammtisch
ATTACH;FMTTYPE=image/png:http://www.imkerverein-toelz.de/wp-content/uploads/2021/02/Bier_Icon-e1612610276607.png
END:VEVENT
BEGIN:VEVENT
DTSTART;TZID=Europe/Berlin:20240515T170000
DTEND;TZID=Europe/Berlin:20240515T210000
DTSTAMP:20260420T172705
CREATED:20240227T164902Z
LAST-MODIFIED:20240317T095152Z
UID:422-1715792400-1715806800@www.imkerverein-toelz.de
SUMMARY:Exkursion - Prüfhof Guglhör [GEPLANT]
DESCRIPTION:Ausflug zum Prüfhof Guglhof nach Riegsee \ngenaue Details  (Ablauf und exakte Zeit) werden noch bekannt gegeben Interessenten bitte bei der Vorstandschaft melden
URL:http://www.imkerverein-toelz.de/event/exkursion-pruefhof-guglhoer-geplant/
LOCATION:Guglhör\, Guglhör 2\, Riegsee\, 82418\, Deutschland
CATEGORIES:Ausflug,Vorträge
ATTACH;FMTTYPE=image/png:http://www.imkerverein-toelz.de/wp-content/uploads/2024/02/039853-orange-white-pearl-icon-transport-travel-transportation-car1.png
END:VEVENT
BEGIN:VEVENT
DTSTART;TZID=Europe/Berlin:20240424T190000
DTEND;TZID=Europe/Berlin:20240424T210000
DTSTAMP:20260420T172705
CREATED:20240227T164217Z
LAST-MODIFIED:20240227T164217Z
UID:420-1713985200-1713992400@www.imkerverein-toelz.de
SUMMARY:Vortrag - Asiatische Wespe
DESCRIPTION:Vortrag von unserem Kreisvorsitzenden Michael Maier über die asisatische Wespe
URL:http://www.imkerverein-toelz.de/event/vortrag-asiatische-wespe/
LOCATION:Lehrbienenstand
CATEGORIES:Vorträge
END:VEVENT
BEGIN:VEVENT
DTSTART;TZID=Europe/Berlin:20240414T100000
DTEND;TZID=Europe/Berlin:20240414T120000
DTSTAMP:20260420T172705
CREATED:20240227T163934Z
LAST-MODIFIED:20240227T163934Z
UID:418-1713088800-1713096000@www.imkerverein-toelz.de
SUMMARY:Frühschoppen / Refraktometer kalibrrieren
DESCRIPTION:Gemütlicher Frühschoppen mit kleiner Brotzeit \nGemeinsames Kalibrieren der Refraktometer. Referenzmessung erfolgt mit dem neuen Profi-Refraktometer des Lehrbienenstands
URL:http://www.imkerverein-toelz.de/event/fruehschoppen-refraktometer-kalibrrieren/
LOCATION:Lehrbienenstand
CATEGORIES:Stammtisch
ATTACH;FMTTYPE=image/png:http://www.imkerverein-toelz.de/wp-content/uploads/2021/02/Bier_Icon-e1612610276607.png
END:VEVENT
BEGIN:VEVENT
DTSTART;TZID=Europe/Berlin:20240406T090000
DTEND;TZID=Europe/Berlin:20240406T123000
DTSTAMP:20260420T172705
CREATED:20240317T095317Z
LAST-MODIFIED:20240317T095340Z
UID:444-1712394000-1712406600@www.imkerverein-toelz.de
SUMMARY:Arbeitseinsatz Lehrbienenstand
DESCRIPTION:Winterschäden beheben \nLehrbienenstand putzen
URL:http://www.imkerverein-toelz.de/event/arbeitseinsatz-lehrbienenstand/
LOCATION:Lehrbienenstand
END:VEVENT
BEGIN:VEVENT
DTSTART;TZID=Europe/Berlin:20240327T180000
DTEND;TZID=Europe/Berlin:20240327T200000
DTSTAMP:20260420T172706
CREATED:20240324T130035Z
LAST-MODIFIED:20250106T105924Z
UID:446-1711562400-1711569600@www.imkerverein-toelz.de
SUMMARY:Anfängerkurs - Einführungsveranstaltung
DESCRIPTION:Einführungsveranstaltung für unseren Jahresbegleitenden Anfängerkurs. \nAlle Interesenten\, sind hierzu herzlich eingeladen\,\ndie Folgetermine werden innerhalbe der Gruppe vom Kursleiter über den\nMailverteiler bekannt gegeben.
URL:http://www.imkerverein-toelz.de/event/anfaengerkurs-einfuehrungsveranstaltung-3/
LOCATION:Lehrbienenstand
ATTACH;FMTTYPE=image/png:http://www.imkerverein-toelz.de/wp-content/uploads/2021/02/vortrag-e1612697583402.png
END:VEVENT
BEGIN:VEVENT
DTSTART;TZID=Europe/Berlin:20240317T100000
DTEND;TZID=Europe/Berlin:20240317T120000
DTSTAMP:20260420T172706
CREATED:20240227T163621Z
LAST-MODIFIED:20240227T163621Z
UID:412-1710669600-1710676800@www.imkerverein-toelz.de
SUMMARY:Jahreshauptversammlung
DESCRIPTION:JHV des Vereins\, Einladung der Mitglieder erfolgt gem. Beschluss per Mailverteiler\,\nwer keine Mails aus dem Verteiler erhält möge sich bitte an die Vorstandschaft wenden. \n\n2024 Neuwahlen der Vorstandschaft\nAnnahme Varroamittelbestellung
URL:http://www.imkerverein-toelz.de/event/jahreshauptversammlung/
LOCATION:Binderbräu Bad Tölz\, Ludwigstraße 12\, Bad Tölz\, 83646
CATEGORIES:Hauptversammlung
ATTACH;FMTTYPE=image/png:http://www.imkerverein-toelz.de/wp-content/uploads/2021/02/vortrag-e1612697583402.png
END:VEVENT
END:VCALENDAR