BEGIN:VCALENDAR
VERSION:2.0
PRODID:-//Imkerverein Bad Tölz e.V. - ECPv6.15.20//NONSGML v1.0//EN
CALSCALE:GREGORIAN
METHOD:PUBLISH
X-ORIGINAL-URL:http://www.imkerverein-toelz.de
X-WR-CALDESC:Veranstaltungen für Imkerverein Bad Tölz e.V.
REFRESH-INTERVAL;VALUE=DURATION:PT1H
X-Robots-Tag:noindex
X-PUBLISHED-TTL:PT1H
BEGIN:VTIMEZONE
TZID:Europe/Berlin
BEGIN:DAYLIGHT
TZOFFSETFROM:+0100
TZOFFSETTO:+0200
TZNAME:CEST
DTSTART:20250330T010000
END:DAYLIGHT
BEGIN:STANDARD
TZOFFSETFROM:+0200
TZOFFSETTO:+0100
TZNAME:CET
DTSTART:20251026T010000
END:STANDARD
BEGIN:DAYLIGHT
TZOFFSETFROM:+0100
TZOFFSETTO:+0200
TZNAME:CEST
DTSTART:20260329T010000
END:DAYLIGHT
BEGIN:STANDARD
TZOFFSETFROM:+0200
TZOFFSETTO:+0100
TZNAME:CET
DTSTART:20261025T010000
END:STANDARD
BEGIN:DAYLIGHT
TZOFFSETFROM:+0100
TZOFFSETTO:+0200
TZNAME:CEST
DTSTART:20270328T010000
END:DAYLIGHT
BEGIN:STANDARD
TZOFFSETFROM:+0200
TZOFFSETTO:+0100
TZNAME:CET
DTSTART:20271031T010000
END:STANDARD
END:VTIMEZONE
BEGIN:VEVENT
DTSTART;TZID=Europe/Berlin:20260421T190000
DTEND;TZID=Europe/Berlin:20260421T200000
DTSTAMP:20260420T172202
CREATED:20260228T171246Z
LAST-MODIFIED:20260228T171246Z
UID:569-1776798000-1776801600@www.imkerverein-toelz.de
SUMMARY:Königinnenzucht 2026
DESCRIPTION:Einführungsveranstaltung unserer Zuchtgruppe\, für die diesjährige Königinnenzucht. \nDa die Gruppengröße für den Kurs ist begrenzt\, würden wir uns vorab freuen wenn ihr\ndie Vorstandschaft über eure Teilnhahme kurz informiert. \nAn diesem Termin wird die Vorgehensweise und der genaue Zuchtplan besprochen. \n 
URL:http://www.imkerverein-toelz.de/event/koeniginnenzucht-2026/
LOCATION:Lehrbienenstand
ATTACH;FMTTYPE=image/jpeg:http://www.imkerverein-toelz.de/wp-content/uploads/2022/04/IMG_2211.jpeg
END:VEVENT
BEGIN:VEVENT
DTSTART;TZID=Europe/Berlin:20260517T100000
DTEND;TZID=Europe/Berlin:20260517T120000
DTSTAMP:20260420T172202
CREATED:20260228T174841Z
LAST-MODIFIED:20260228T174856Z
UID:571-1779012000-1779019200@www.imkerverein-toelz.de
SUMMARY:Frühschoppen / Weißwurstessen
DESCRIPTION:Gemütlicher Erfahrungsaustausch  bei einer Brotzeit
URL:http://www.imkerverein-toelz.de/event/fruehschoppen-weisswurstessen/
LOCATION:Lehrbienenstand
ATTACH;FMTTYPE=image/png:http://www.imkerverein-toelz.de/wp-content/uploads/2021/02/fest-e1614537322872.png
END:VEVENT
BEGIN:VEVENT
DTSTART;TZID=Europe/Berlin:20260618T193000
DTEND;TZID=Europe/Berlin:20260618T213000
DTSTAMP:20260420T172202
CREATED:20260228T175058Z
LAST-MODIFIED:20260228T175323Z
UID:573-1781811000-1781818200@www.imkerverein-toelz.de
SUMMARY:Monatsversammlung / Vortrag Asiatische Hornisse (Platzhalter)
DESCRIPTION:Vortrag über die Asiatische Hornisse von unserem Kreisvorsitzenden Michael Maier.\nDer Termin ist noch nicht final festgelegt und wird ggf. noch verschoben.
URL:http://www.imkerverein-toelz.de/event/monatsversammlung-vortrag-asiatische-hornisse-platzhalter/
ATTACH;FMTTYPE=image/png:http://www.imkerverein-toelz.de/wp-content/uploads/2021/02/vortrag-e1612697583402.png
END:VEVENT
BEGIN:VEVENT
DTSTART;TZID=Europe/Berlin:20260704T090000
DTEND;TZID=Europe/Berlin:20260704T120000
DTSTAMP:20260420T172202
CREATED:20260228T181003Z
LAST-MODIFIED:20260228T181003Z
UID:576-1783155600-1783166400@www.imkerverein-toelz.de
SUMMARY:Arbeitseinsatz Lehrbienenstand
DESCRIPTION:Arbeiten Lehrbienenstand \nVorbereitung für Grillfest / Mittelausgabe \nEs werden ca. 4 freiwillge Helfer Benötigt
URL:http://www.imkerverein-toelz.de/event/arbeitseinsatz-lehrbienenstand-2/
LOCATION:Lehrbienenstand
ATTACH;FMTTYPE=image/png:http://www.imkerverein-toelz.de/wp-content/uploads/2017/03/097000-yellow-road-sign-icon-signs-warning-man-working-sc44.png
END:VEVENT
BEGIN:VEVENT
DTSTART;TZID=Europe/Berlin:20260705T100000
DTEND;TZID=Europe/Berlin:20260705T160000
DTSTAMP:20260420T172202
CREATED:20260228T181354Z
LAST-MODIFIED:20260228T181432Z
UID:578-1783245600-1783267200@www.imkerverein-toelz.de
SUMMARY:Sommerfest / Varroamittelausgabe
DESCRIPTION:gemeinsames Grillfest und Varroamittelausgabe. \n 
URL:http://www.imkerverein-toelz.de/event/sommerfest-varroamittelausgabe-3/
ATTACH;FMTTYPE=image/png:http://www.imkerverein-toelz.de/wp-content/uploads/2021/02/weihnachtsbaum-e1612696632623.png
END:VEVENT
BEGIN:VEVENT
DTSTART;TZID=Europe/Berlin:20260730T190000
DTEND;TZID=Europe/Berlin:20260730T210000
DTSTAMP:20260420T172202
CREATED:20260228T181752Z
LAST-MODIFIED:20260228T181931Z
UID:580-1785438000-1785445200@www.imkerverein-toelz.de
SUMMARY:Saisonabschluss / Grillen
DESCRIPTION:Zum Abschluss der Saison möchten wir uns vor den Sommerferien noch einmal gemeinsam zu einem gemütlichen Grillabend treffen.
URL:http://www.imkerverein-toelz.de/event/saisonabschluss-grillen/
ATTACH;FMTTYPE=image/png:http://www.imkerverein-toelz.de/wp-content/uploads/2021/02/fest-e1614537322872.png
END:VEVENT
BEGIN:VEVENT
DTSTART;TZID=Europe/Berlin:20261017T090000
DTEND;TZID=Europe/Berlin:20261017T150000
DTSTAMP:20260420T172202
CREATED:20260228T183113Z
LAST-MODIFIED:20260228T183113Z
UID:582-1792227600-1792249200@www.imkerverein-toelz.de
SUMMARY:Herbstarbeitseinsatz [Platzhalter]
DESCRIPTION:Lehrbienenstand Winterfest machen.
URL:http://www.imkerverein-toelz.de/event/herbstarbeitseinsatz-platzhalter-2/
ATTACH;FMTTYPE=image/png:http://www.imkerverein-toelz.de/wp-content/uploads/2017/03/097000-yellow-road-sign-icon-signs-warning-man-working-sc44.png
END:VEVENT
BEGIN:VEVENT
DTSTART;TZID=Europe/Berlin:20261122T120000
DTEND;TZID=Europe/Berlin:20261122T170000
DTSTAMP:20260420T172202
CREATED:20260228T183826Z
LAST-MODIFIED:20260228T183826Z
UID:584-1795348800-1795366800@www.imkerverein-toelz.de
SUMMARY:Jahresabschluss
DESCRIPTION:Details werden noch bekannt gegeben
URL:http://www.imkerverein-toelz.de/event/jahresabschluss-2/
END:VEVENT
END:VCALENDAR